BEGIN:VCALENDAR
VERSION:2.0
PRODID:-//psnri.org//NONSGML kigkonsult.se iCalcreator 2.30.10//
CALSCALE:GREGORIAN
METHOD:PUBLISH
UID:3da68ce3-5ce5-4468-9bc6-f54fb9245d13
X-WR-CALDESC:
X-WR-RELCALID:7ad46026e50afe6a8424228e31f4b573
X-WR-TIMEZONE:America/New_York
BEGIN:VTIMEZONE
TZID:America/New_York
BEGIN:STANDARD
TZNAME:EST
DTSTART:20241103T020000
TZOFFSETFROM:-0400
TZOFFSETTO:-0500
RDATE:20251102T020000
END:STANDARD
BEGIN:DAYLIGHT
TZNAME:EDT
DTSTART:20250309T020000
TZOFFSETFROM:-0500
TZOFFSETTO:-0400
RDATE:20260308T020000
END:DAYLIGHT
END:VTIMEZONE
BEGIN:VEVENT
UID:3f42db2c-8fbf-4ad2-bd29-8c36b7c4ed78
DTSTAMP:20260419T140955Z
DESCRIPTION:
DTSTART;TZID=America/New_York:20250423T173000
DTEND;TZID=America/New_York:20250423T190000
LOCATION:535 Centerville Rd\, Suite 202\, Warwick\, RI 02886 US
SUMMARY:Father's Group
END:VEVENT
END:VCALENDAR
