BEGIN:VCALENDAR
VERSION:2.0
PRODID:-//psnri.org//NONSGML kigkonsult.se iCalcreator 2.30.10//
CALSCALE:GREGORIAN
METHOD:PUBLISH
UID:26e0ab55-db98-486c-8104-0617c4abd635
X-WR-CALDESC:
X-WR-RELCALID:f8db1ebe7f8e711b4ed0f851a0fec26c
X-WR-TIMEZONE:America/New_York
BEGIN:VTIMEZONE
TZID:America/New_York
BEGIN:STANDARD
TZNAME:EST
DTSTART:20241103T020000
TZOFFSETFROM:-0400
TZOFFSETTO:-0500
RDATE:20251102T020000
END:STANDARD
BEGIN:DAYLIGHT
TZNAME:EDT
DTSTART:20250309T020000
TZOFFSETFROM:-0500
TZOFFSETTO:-0400
RDATE:20260308T020000
END:DAYLIGHT
END:VTIMEZONE
BEGIN:VEVENT
UID:d53779d4-bcf0-4c40-b56f-dce22bd98154
DTSTAMP:20260419T154635Z
DESCRIPTION:
DTSTART;TZID=America/New_York:20250417T173000
DTEND;TZID=America/New_York:20250417T190000
LOCATION:535 Centerville Rd\, Suite 202\, Warwick\, RI 02886 US
SUMMARY:Circle of Parents Group for Parents of Teens
END:VEVENT
END:VCALENDAR
