BEGIN:VCALENDAR
VERSION:2.0
PRODID:-//psnri.org//NONSGML kigkonsult.se iCalcreator 2.30.10//
CALSCALE:GREGORIAN
METHOD:PUBLISH
UID:55cda4d8-2b98-4792-be58-3195b189caa7
X-WR-CALDESC:Become a Voice for Children's Behavioral Health in Rhode Islan
 d. Join us third Thursdays monthly online or in Warwick.\n
X-WR-RELCALID:bd1f7a96462c9470f5fb55c6f7d37883
X-WR-TIMEZONE:America/New_York
BEGIN:VTIMEZONE
TZID:America/New_York
BEGIN:STANDARD
TZNAME:EST
DTSTART:20241103T020000
TZOFFSETFROM:-0400
TZOFFSETTO:-0500
RDATE:20251102T020000
END:STANDARD
BEGIN:DAYLIGHT
TZNAME:EDT
DTSTART:20250309T020000
TZOFFSETFROM:-0500
TZOFFSETTO:-0400
RDATE:20260308T020000
END:DAYLIGHT
END:VTIMEZONE
BEGIN:VEVENT
UID:99c59795-7f37-4bdb-8713-57774fc29fea
DTSTAMP:20260419T154803Z
DESCRIPTION:Become a Voice for Children's Behavioral Health in Rhode Island
 . Join us third Thursdays monthly online or in Warwick.\n
DTSTART;TZID=America/New_York:20250417T130000
DTEND;TZID=America/New_York:20250417T143000
LOCATION:Hybrid in-person or virtual
SUMMARY:Family Engagement Workgroup
END:VEVENT
END:VCALENDAR
