BEGIN:VCALENDAR
VERSION:2.0
PRODID:-//psnri.org//NONSGML kigkonsult.se iCalcreator 2.30.10//
CALSCALE:GREGORIAN
METHOD:PUBLISH
UID:cc5a6629-5843-489d-9a73-cc43dcdbb0e3
X-WR-CALDESC:
X-WR-RELCALID:0dc8253db1ffb36989683de70626f3fd
X-WR-TIMEZONE:America/New_York
BEGIN:VTIMEZONE
TZID:America/New_York
BEGIN:STANDARD
TZNAME:EST
DTSTART:20241103T020000
TZOFFSETFROM:-0400
TZOFFSETTO:-0500
RDATE:20251102T020000
END:STANDARD
BEGIN:DAYLIGHT
TZNAME:EDT
DTSTART:20250309T020000
TZOFFSETFROM:-0500
TZOFFSETTO:-0400
RDATE:20260308T020000
END:DAYLIGHT
END:VTIMEZONE
BEGIN:VEVENT
UID:1c423cfc-3821-4630-9dff-e1f6a53464bb
DTSTAMP:20260419T171117Z
DESCRIPTION:
DTSTART;TZID=America/New_York:20250410T083000
DTEND;TZID=America/New_York:20250410T120000
LOCATION:Providence Marriott Downtown\, 1 Orms St\, Providence\, RI 02904 U
 S
SUMMARY:RIFI Fatherhood Forum
END:VEVENT
END:VCALENDAR
