BEGIN:VCALENDAR
VERSION:2.0
PRODID:-//psnri.org//NONSGML kigkonsult.se iCalcreator 2.30.10//
CALSCALE:GREGORIAN
METHOD:PUBLISH
UID:cc93cca0-d800-4049-b4d6-28e67c341bb3
X-WR-CALDESC:
X-WR-RELCALID:6b351dcb75b4ed1cefa1accace8dd41a
X-WR-TIMEZONE:America/New_York
BEGIN:VTIMEZONE
TZID:America/New_York
BEGIN:STANDARD
TZNAME:EST
DTSTART:20241103T020000
TZOFFSETFROM:-0400
TZOFFSETTO:-0500
RDATE:20251102T020000
END:STANDARD
BEGIN:DAYLIGHT
TZNAME:EDT
DTSTART:20250309T020000
TZOFFSETFROM:-0500
TZOFFSETTO:-0400
RDATE:20260308T020000
END:DAYLIGHT
END:VTIMEZONE
BEGIN:VEVENT
UID:ba0c9671-d1a5-457a-a46d-52b6fceb5b14
DTSTAMP:20260419T170459Z
DESCRIPTION:
DTSTART;TZID=America/New_York:20250409T173000
DTEND;TZID=America/New_York:20250409T190000
LOCATION:535 Centerville Rd\, Suite 202\, Warwick\, RI 02886 US
SUMMARY:Father's Group
END:VEVENT
END:VCALENDAR
