BEGIN:VCALENDAR
VERSION:2.0
PRODID:-//psnri.org//NONSGML kigkonsult.se iCalcreator 2.30.10//
CALSCALE:GREGORIAN
METHOD:PUBLISH
UID:be80c921-0a74-49dc-b959-6a5d3809624c
X-WR-CALDESC:
X-WR-RELCALID:c4742200bbe517a6d22edb7c5df1c99a
X-WR-TIMEZONE:America/New_York
BEGIN:VTIMEZONE
TZID:America/New_York
BEGIN:STANDARD
TZNAME:EST
DTSTART:20241103T020000
TZOFFSETFROM:-0400
TZOFFSETTO:-0500
RDATE:20251102T020000
END:STANDARD
BEGIN:DAYLIGHT
TZNAME:EDT
DTSTART:20250309T020000
TZOFFSETFROM:-0500
TZOFFSETTO:-0400
RDATE:20260308T020000
END:DAYLIGHT
END:VTIMEZONE
BEGIN:VEVENT
UID:50b2d800-23cf-40f3-b491-8b1c99399f86
DTSTAMP:20260419T183048Z
DESCRIPTION:
DTSTART;TZID=America/New_York:20250401T060000
DTEND;TZID=America/New_York:20250401T060001
LOCATION:
SUMMARY:Child Abuse Prevention (CAP) Month
END:VEVENT
END:VCALENDAR
