BEGIN:VCALENDAR
VERSION:2.0
PRODID:-//psnri.org//NONSGML kigkonsult.se iCalcreator 2.30.10//
CALSCALE:GREGORIAN
METHOD:PUBLISH
UID:be4e1d8a-eff8-4aab-b0bd-c67c0f405442
X-WR-CALDESC:passcode 654912
X-WR-RELCALID:fa5e8b0d5966c6ace9e33403881d643b
X-WR-TIMEZONE:America/New_York
BEGIN:VTIMEZONE
TZID:America/New_York
BEGIN:STANDARD
TZNAME:EST
DTSTART:20241103T020000
TZOFFSETFROM:-0400
TZOFFSETTO:-0500
RDATE:20251102T020000
END:STANDARD
BEGIN:DAYLIGHT
TZNAME:EDT
DTSTART:20250309T020000
TZOFFSETFROM:-0500
TZOFFSETTO:-0400
RDATE:20260308T020000
END:DAYLIGHT
END:VTIMEZONE
BEGIN:VEVENT
UID:365689fa-da0e-48b2-be2d-e484975ddb32
DTSTAMP:20260419T183048Z
DESCRIPTION:passcode 654912
DTSTART;TZID=America/New_York:20250401T190000
DTEND;TZID=America/New_York:20250401T203000
LOCATION:https://us06web.zoom.us/j/82485964581?pwd=FuTBlkns2zpTrVs2Iy6nxPJA
 8AwZrJ.1#success
SUMMARY:VIRTUAL: Circle of Parents group
END:VEVENT
END:VCALENDAR
