BEGIN:VCALENDAR
VERSION:2.0
PRODID:-//psnri.org//NONSGML kigkonsult.se iCalcreator 2.30.10//
CALSCALE:GREGORIAN
METHOD:PUBLISH
UID:57ced3fb-11ed-4f8d-b4ee-5ec2cf8bce62
X-WR-CALDESC:
X-WR-RELCALID:e9b228cc5b05c56a100b843cdb62d36a
X-WR-TIMEZONE:America/New_York
BEGIN:VTIMEZONE
TZID:America/New_York
BEGIN:STANDARD
TZNAME:EST
DTSTART:20241103T020000
TZOFFSETFROM:-0400
TZOFFSETTO:-0500
RDATE:20251102T020000
END:STANDARD
BEGIN:DAYLIGHT
TZNAME:EDT
DTSTART:20250309T020000
TZOFFSETFROM:-0500
TZOFFSETTO:-0400
RDATE:20260308T020000
END:DAYLIGHT
END:VTIMEZONE
BEGIN:VEVENT
UID:03354627-0b1e-45f9-91eb-8dfb5204514d
DTSTAMP:20260419T194911Z
DESCRIPTION:
DTSTART;TZID=America/New_York:20250326T173000
DTEND;TZID=America/New_York:20250326T190000
LOCATION:535 Centerville Rd\, Suite 202\, Warwick\, RI 02886 US
SUMMARY:Father's Group
END:VEVENT
END:VCALENDAR
