BEGIN:VCALENDAR
VERSION:2.0
PRODID:-//psnri.org//NONSGML kigkonsult.se iCalcreator 2.30.10//
CALSCALE:GREGORIAN
METHOD:PUBLISH
UID:6648e473-54e3-4843-80ed-a99c7c176b73
X-WR-CALDESC:passcode 654912
X-WR-RELCALID:7105b0986fb2ee9899a0515d4a00427f
X-WR-TIMEZONE:America/New_York
BEGIN:VTIMEZONE
TZID:America/New_York
BEGIN:STANDARD
TZNAME:EST
DTSTART:20241103T020000
TZOFFSETFROM:-0400
TZOFFSETTO:-0500
RDATE:20251102T020000
END:STANDARD
BEGIN:DAYLIGHT
TZNAME:EDT
DTSTART:20240310T020000
TZOFFSETFROM:-0500
TZOFFSETTO:-0400
RDATE:20250309T020000
RDATE:20260308T020000
END:DAYLIGHT
END:VTIMEZONE
BEGIN:VEVENT
UID:fe4530f4-128c-4ef9-a158-8de896666203
DTSTAMP:20260419T235104Z
DESCRIPTION:passcode 654912
DTSTART;TZID=America/New_York:20250304T190000
DTEND;TZID=America/New_York:20250304T203000
LOCATION:https://us06web.zoom.us/j/82485964581?pwd=FuTBlkns2zpTrVs2Iy6nxPJA
 8AwZrJ.1#success
SUMMARY:VIRTUAL: Circle of Parents group
END:VEVENT
END:VCALENDAR
