BEGIN:VCALENDAR
VERSION:2.0
PRODID:-//psnri.org//NONSGML kigkonsult.se iCalcreator 2.30.10//
CALSCALE:GREGORIAN
METHOD:PUBLISH
UID:c4dfc08a-9bcd-4dac-8919-54dbec46a57c
X-WR-CALDESC:
X-WR-RELCALID:abf9be7e9637338366bb1e6b2b1986ad
X-WR-TIMEZONE:America/New_York
BEGIN:VTIMEZONE
TZID:America/New_York
BEGIN:STANDARD
TZNAME:EST
DTSTART:20241103T020000
TZOFFSETFROM:-0400
TZOFFSETTO:-0500
RDATE:20251102T020000
END:STANDARD
BEGIN:DAYLIGHT
TZNAME:EDT
DTSTART:20240310T020000
TZOFFSETFROM:-0500
TZOFFSETTO:-0400
RDATE:20250309T020000
RDATE:20260308T020000
END:DAYLIGHT
END:VTIMEZONE
BEGIN:VEVENT
UID:e876340a-9604-4e24-a52c-d1bca196fcde
DTSTAMP:20260420T012223Z
DESCRIPTION:
DTSTART;TZID=America/New_York:20250226T173000
DTEND;TZID=America/New_York:20250226T190000
LOCATION:535 Centerville Rd\, Suite 202\, Warwick\, RI 02886 US
SUMMARY:Father's Group
END:VEVENT
END:VCALENDAR
