BEGIN:VCALENDAR
VERSION:2.0
PRODID:-//psnri.org//NONSGML kigkonsult.se iCalcreator 2.30.10//
CALSCALE:GREGORIAN
METHOD:PUBLISH
UID:52da26eb-1cdc-440b-a764-bb00f368cb4d
X-WR-CALDESC:
X-WR-RELCALID:6342669669a3eee625c48a9e91156cc9
X-WR-TIMEZONE:America/New_York
BEGIN:VTIMEZONE
TZID:America/New_York
BEGIN:STANDARD
TZNAME:EST
DTSTART:20241103T020000
TZOFFSETFROM:-0400
TZOFFSETTO:-0500
RDATE:20251102T020000
END:STANDARD
BEGIN:DAYLIGHT
TZNAME:EDT
DTSTART:20240310T020000
TZOFFSETFROM:-0500
TZOFFSETTO:-0400
RDATE:20250309T020000
RDATE:20260308T020000
END:DAYLIGHT
END:VTIMEZONE
BEGIN:VEVENT
UID:d0c97125-2841-4ce3-b0f9-ab05b8311bc1
DTSTAMP:20260420T043918Z
DESCRIPTION:
DTSTART;TZID=America/New_York:20250212T173000
DTEND;TZID=America/New_York:20250212T190000
LOCATION:535 Centerville Rd\, Suite 202\, Warwick\, RI 02886 US
SUMMARY:Father's Group
END:VEVENT
END:VCALENDAR
