BEGIN:VCALENDAR
VERSION:2.0
PRODID:-//psnri.org//NONSGML kigkonsult.se iCalcreator 2.30.10//
CALSCALE:GREGORIAN
METHOD:PUBLISH
UID:fb19c1b5-fec8-4a50-9a87-2ba148026bfb
X-WR-CALDESC:passcode 654912
X-WR-RELCALID:89dcd47aa26a74ee1c78a28506b48090
X-WR-TIMEZONE:America/New_York
BEGIN:VTIMEZONE
TZID:America/New_York
BEGIN:STANDARD
TZNAME:EST
DTSTART:20241103T020000
TZOFFSETFROM:-0400
TZOFFSETTO:-0500
RDATE:20251102T020000
END:STANDARD
BEGIN:DAYLIGHT
TZNAME:EDT
DTSTART:20240310T020000
TZOFFSETFROM:-0500
TZOFFSETTO:-0400
RDATE:20250309T020000
RDATE:20260308T020000
END:DAYLIGHT
END:VTIMEZONE
BEGIN:VEVENT
UID:fcecc555-c368-4c4b-b3da-e09262ae7048
DTSTAMP:20260420T061056Z
DESCRIPTION:passcode 654912
DTSTART;TZID=America/New_York:20250204T190000
DTEND;TZID=America/New_York:20250204T203000
LOCATION:https://us06web.zoom.us/j/82485964581?pwd=FuTBlkns2zpTrVs2Iy6nxPJA
 8AwZrJ.1#success
SUMMARY:VIRTUAL: Circle of Parents group
END:VEVENT
END:VCALENDAR
