BEGIN:VCALENDAR
VERSION:2.0
PRODID:-//psnri.org//NONSGML kigkonsult.se iCalcreator 2.30.10//
CALSCALE:GREGORIAN
METHOD:PUBLISH
UID:f40a6cc4-b091-44a8-b25d-d4198e407f02
X-WR-CALDESC:Become a Voice for Children's Behavioral Health in Rhode Islan
 d. Join us third Thursdays monthly online or in Warwick.\n
X-WR-RELCALID:da45006873fd0ce1c0929d3f5b35370b
X-WR-TIMEZONE:America/New_York
BEGIN:VTIMEZONE
TZID:America/New_York
BEGIN:STANDARD
TZNAME:EST
DTSTART:20241103T020000
TZOFFSETFROM:-0400
TZOFFSETTO:-0500
RDATE:20251102T020000
END:STANDARD
BEGIN:DAYLIGHT
TZNAME:EDT
DTSTART:20240310T020000
TZOFFSETFROM:-0500
TZOFFSETTO:-0400
RDATE:20250309T020000
RDATE:20260308T020000
END:DAYLIGHT
END:VTIMEZONE
BEGIN:VEVENT
UID:d0f24d87-043f-48b2-86ee-d68e072e32bd
DTSTAMP:20260422T084821Z
DESCRIPTION:Become a Voice for Children's Behavioral Health in Rhode Island
 . Join us third Thursdays monthly online or in Warwick.\n
DTSTART;TZID=America/New_York:20250116T130000
DTEND;TZID=America/New_York:20250116T143000
LOCATION:Hybrid in-person or virtual
SUMMARY:Family Engagement Workgroup
END:VEVENT
END:VCALENDAR
