BEGIN:VCALENDAR
VERSION:2.0
PRODID:-//psnri.org//NONSGML kigkonsult.se iCalcreator 2.30.10//
CALSCALE:GREGORIAN
METHOD:PUBLISH
UID:a7808e3e-a7b1-454a-bb59-a25c65aa96f6
X-WR-CALDESC:Join us online or in person at 535 Centerville Rd\, 3rd Floor\
 , Warwick
X-WR-RELCALID:f5346b4f59849aa5247680220ffde7c9
X-WR-TIMEZONE:America/New_York
BEGIN:VTIMEZONE
TZID:America/New_York
BEGIN:STANDARD
TZNAME:EST
DTSTART:20241103T020000
TZOFFSETFROM:-0400
TZOFFSETTO:-0500
RDATE:20251102T020000
END:STANDARD
BEGIN:DAYLIGHT
TZNAME:EDT
DTSTART:20240310T020000
TZOFFSETFROM:-0500
TZOFFSETTO:-0400
RDATE:20250309T020000
RDATE:20260308T020000
END:DAYLIGHT
END:VTIMEZONE
BEGIN:VEVENT
UID:eda305f5-4247-4f65-b9b4-3ee3fc67a537
DTSTAMP:20260422T084408Z
DESCRIPTION:Join us online or in person at 535 Centerville Rd\, 3rd Floor\,
  Warwick
DTSTART;TZID=America/New_York:20250115T173000
DTEND;TZID=America/New_York:20250115T190000
LOCATION:https://us02web.zoom.us/j/82839195711
SUMMARY:HYBRID: Warwick Fatherhood group
END:VEVENT
END:VCALENDAR
