BEGIN:VCALENDAR
VERSION:2.0
PRODID:-//psnri.org//NONSGML kigkonsult.se iCalcreator 2.30.10//
CALSCALE:GREGORIAN
METHOD:PUBLISH
UID:4bc9f2fb-16fe-4452-bc6c-3b5e8abd2f66
X-WR-CALDESC:
X-WR-RELCALID:66c2449f1c10791ea561a93d45417852
X-WR-TIMEZONE:America/New_York
BEGIN:VTIMEZONE
TZID:America/New_York
BEGIN:STANDARD
TZNAME:EST
DTSTART:20241103T020000
TZOFFSETFROM:-0400
TZOFFSETTO:-0500
RDATE:20251102T020000
END:STANDARD
BEGIN:DAYLIGHT
TZNAME:EDT
DTSTART:20240310T020000
TZOFFSETFROM:-0500
TZOFFSETTO:-0400
RDATE:20250309T020000
RDATE:20260308T020000
END:DAYLIGHT
END:VTIMEZONE
BEGIN:VEVENT
UID:3e72427e-899f-43e3-b2b1-cbfc145555e7
DTSTAMP:20260424T155035Z
DESCRIPTION:
DTSTART;TZID=America/New_York:20241112T191500
DTEND;TZID=America/New_York:20241112T203000
LOCATION:https://us02web.zoom.us/j/87140725265
SUMMARY:VIRTUAL: Circle of Parents group
END:VEVENT
END:VCALENDAR
