BEGIN:VCALENDAR
VERSION:2.0
PRODID:-//psnri.org//NONSGML kigkonsult.se iCalcreator 2.30.10//
CALSCALE:GREGORIAN
METHOD:PUBLISH
UID:45520818-381e-4ccf-af94-0c17d3a7b187
X-WR-CALDESC:Join us online or in person at 535 Centerville Rd\, 3rd Floor\
 , Warwick
X-WR-RELCALID:0021261ca79463894d4366b9b09516c0
X-WR-TIMEZONE:America/New_York
BEGIN:VTIMEZONE
TZID:America/New_York
BEGIN:STANDARD
TZNAME:EST
DTSTART:20231105T020000
TZOFFSETFROM:-0400
TZOFFSETTO:-0500
RDATE:20241103T020000
RDATE:20251102T020000
END:STANDARD
BEGIN:DAYLIGHT
TZNAME:EDT
DTSTART:20240310T020000
TZOFFSETFROM:-0500
TZOFFSETTO:-0400
RDATE:20250309T020000
RDATE:20260308T020000
END:DAYLIGHT
END:VTIMEZONE
BEGIN:VEVENT
UID:5dd19e47-c69a-4aab-a98f-98ca2c29693c
DTSTAMP:20260424T215546Z
DESCRIPTION:Join us online or in person at 535 Centerville Rd\, 3rd Floor\,
  Warwick
DTSTART;TZID=America/New_York:20241016T173000
DTEND;TZID=America/New_York:20241016T190000
LOCATION:https://us02web.zoom.us/j/82839195711
SUMMARY:HYBRID: Warwick Fatherhood group
END:VEVENT
END:VCALENDAR
