BEGIN:VCALENDAR
VERSION:2.0
PRODID:-//psnri.org//NONSGML kigkonsult.se iCalcreator 2.30.10//
CALSCALE:GREGORIAN
METHOD:PUBLISH
UID:a44ab05b-e607-47cd-9aa9-73240bb9b0c3
X-WR-CALDESC:Join us online or in person at 535 Centerville Rd\, 3rd Floor\
 , Warwick
X-WR-RELCALID:3576d8f53c2df03ad81b8448ef8dd699
X-WR-TIMEZONE:America/New_York
BEGIN:VTIMEZONE
TZID:America/New_York
BEGIN:STANDARD
TZNAME:EST
DTSTART:20231105T020000
TZOFFSETFROM:-0400
TZOFFSETTO:-0500
RDATE:20241103T020000
RDATE:20251102T020000
END:STANDARD
BEGIN:DAYLIGHT
TZNAME:EDT
DTSTART:20240310T020000
TZOFFSETFROM:-0500
TZOFFSETTO:-0400
RDATE:20250309T020000
RDATE:20260308T020000
END:DAYLIGHT
END:VTIMEZONE
BEGIN:VEVENT
UID:de7d9990-a0f6-4e2b-8520-bde01cd35815
DTSTAMP:20260425T004523Z
DESCRIPTION:Join us online or in person at 535 Centerville Rd\, 3rd Floor\,
  Warwick
DTSTART;TZID=America/New_York:20241002T173000
DTEND;TZID=America/New_York:20241002T190000
LOCATION:https://us02web.zoom.us/j/82839195711
SUMMARY:HYBRID: Warwick Fatherhood group
END:VEVENT
END:VCALENDAR
