BEGIN:VCALENDAR
VERSION:2.0
PRODID:-//psnri.org//NONSGML kigkonsult.se iCalcreator 2.30.10//
CALSCALE:GREGORIAN
METHOD:PUBLISH
UID:8ab0d3aa-8ea1-4fba-9a9b-770290da858e
X-WR-CALDESC:Become a Voice for Children's Behavioral Health in Rhode Islan
 d. Join us third Thursdays monthly online or in Warwick.
X-WR-RELCALID:b3bd4c8f1c2758c70b687e6d8096e50a
X-WR-TIMEZONE:America/New_York
BEGIN:VTIMEZONE
TZID:America/New_York
BEGIN:STANDARD
TZNAME:EST
DTSTART:20231105T020000
TZOFFSETFROM:-0400
TZOFFSETTO:-0500
RDATE:20241103T020000
RDATE:20251102T020000
END:STANDARD
BEGIN:DAYLIGHT
TZNAME:EDT
DTSTART:20240310T020000
TZOFFSETFROM:-0500
TZOFFSETTO:-0400
RDATE:20250309T020000
RDATE:20260308T020000
END:DAYLIGHT
END:VTIMEZONE
BEGIN:VEVENT
UID:1b7877ba-939c-4132-81ce-5f476135eaa6
DTSTAMP:20260425T034849Z
DESCRIPTION:Become a Voice for Children's Behavioral Health in Rhode Island
 . Join us third Thursdays monthly online or in Warwick.
DTSTART;TZID=America/New_York:20240919T180000
DTEND;TZID=America/New_York:20240919T193000
LOCATION:Hybrid in-person or virtual
SUMMARY:Family Engagement Workgroup
END:VEVENT
END:VCALENDAR
