BEGIN:VCALENDAR
VERSION:2.0
PRODID:-//psnri.org//NONSGML kigkonsult.se iCalcreator 2.30.10//
CALSCALE:GREGORIAN
METHOD:PUBLISH
UID:cb0a794c-25f0-4afd-b417-a21ef4411226
X-WR-CALDESC:
X-WR-RELCALID:8674ea100886366c6b430ac08621127b
X-WR-TIMEZONE:America/New_York
BEGIN:VTIMEZONE
TZID:America/New_York
BEGIN:STANDARD
TZNAME:EST
DTSTART:20231105T020000
TZOFFSETFROM:-0400
TZOFFSETTO:-0500
RDATE:20241103T020000
RDATE:20251102T020000
END:STANDARD
BEGIN:DAYLIGHT
TZNAME:EDT
DTSTART:20240310T020000
TZOFFSETFROM:-0500
TZOFFSETTO:-0400
RDATE:20250309T020000
RDATE:20260308T020000
END:DAYLIGHT
END:VTIMEZONE
BEGIN:VEVENT
UID:c21b9093-c92d-4018-8c6b-00200c255a05
DTSTAMP:20260425T034411Z
DESCRIPTION:
DTSTART;TZID=America/New_York:20240917T191500
DTEND;TZID=America/New_York:20240917T203000
LOCATION:https://us02web.zoom.us/j/87140725265
SUMMARY:VIRTUAL: Circle of Parents group
END:VEVENT
END:VCALENDAR
