BEGIN:VCALENDAR
VERSION:2.0
PRODID:-//psnri.org//NONSGML kigkonsult.se iCalcreator 2.30.10//
CALSCALE:GREGORIAN
METHOD:PUBLISH
UID:7ffa2f8e-d5f7-4fb3-bff0-a8fc248ccb82
X-WR-CALDESC:Become a Voice for Children's Behavioral Health in Rhode Islan
 d. Join us third Thursdays monthly online or in Warwick.
X-WR-RELCALID:f38416f34cade12e9a1867be4f81f152
X-WR-TIMEZONE:America/New_York
BEGIN:VTIMEZONE
TZID:America/New_York
BEGIN:STANDARD
TZNAME:EST
DTSTART:20231105T020000
TZOFFSETFROM:-0400
TZOFFSETTO:-0500
RDATE:20241103T020000
RDATE:20251102T020000
END:STANDARD
BEGIN:DAYLIGHT
TZNAME:EDT
DTSTART:20240310T020000
TZOFFSETFROM:-0500
TZOFFSETTO:-0400
RDATE:20250309T020000
END:DAYLIGHT
END:VTIMEZONE
BEGIN:VEVENT
UID:cf19577e-9a84-4afa-bac4-548e86127f1f
DTSTAMP:20260425T105910Z
DESCRIPTION:Become a Voice for Children's Behavioral Health in Rhode Island
 . Join us third Thursdays monthly online or in Warwick.
DTSTART;TZID=America/New_York:20240815T180000
DTEND;TZID=America/New_York:20240815T193000
LOCATION:Hybrid in-person or virtual
SUMMARY:Family Engagement Workgroup
END:VEVENT
END:VCALENDAR
