BEGIN:VCALENDAR
VERSION:2.0
PRODID:-//psnri.org//NONSGML kigkonsult.se iCalcreator 2.30.10//
CALSCALE:GREGORIAN
METHOD:PUBLISH
UID:58f0d18d-6806-4dcc-8723-15396970f2f3
X-WR-CALDESC:Join us online or in person at 535 Centerville Rd\, 3rd Floor\
 , Warwick
X-WR-RELCALID:4f08e4adb283799484c4c27bb469aaad
X-WR-TIMEZONE:America/New_York
BEGIN:VTIMEZONE
TZID:America/New_York
BEGIN:STANDARD
TZNAME:EST
DTSTART:20231105T020000
TZOFFSETFROM:-0400
TZOFFSETTO:-0500
RDATE:20241103T020000
RDATE:20251102T020000
END:STANDARD
BEGIN:DAYLIGHT
TZNAME:EDT
DTSTART:20240310T020000
TZOFFSETFROM:-0500
TZOFFSETTO:-0400
RDATE:20250309T020000
END:DAYLIGHT
END:VTIMEZONE
BEGIN:VEVENT
UID:ae9f17e0-2fa9-47e4-a34a-40e7956b178f
DTSTAMP:20260425T122919Z
DESCRIPTION:Join us online or in person at 535 Centerville Rd\, 3rd Floor\,
  Warwick
DTSTART;TZID=America/New_York:20240807T173000
DTEND;TZID=America/New_York:20240807T190000
LOCATION:https://us02web.zoom.us/j/82839195711
SUMMARY:HYBRID: Warwick Fatherhood group
END:VEVENT
END:VCALENDAR
