BEGIN:VCALENDAR
VERSION:2.0
PRODID:-//psnri.org//NONSGML kigkonsult.se iCalcreator 2.30.10//
CALSCALE:GREGORIAN
METHOD:PUBLISH
UID:7fc7ca9b-741a-4890-800b-46e55c41f87f
X-WR-CALDESC:
X-WR-RELCALID:c5af94b375c6f3d95761bafd9a1231ab
X-WR-TIMEZONE:America/New_York
BEGIN:VTIMEZONE
TZID:America/New_York
BEGIN:STANDARD
TZNAME:EST
DTSTART:20231105T020000
TZOFFSETFROM:-0400
TZOFFSETTO:-0500
RDATE:20241103T020000
RDATE:20251102T020000
END:STANDARD
BEGIN:DAYLIGHT
TZNAME:EDT
DTSTART:20240310T020000
TZOFFSETFROM:-0500
TZOFFSETTO:-0400
RDATE:20250309T020000
END:DAYLIGHT
END:VTIMEZONE
BEGIN:VEVENT
UID:e9fe5c61-d55c-4f4f-b1e7-86c44c6e0aee
DTSTAMP:20260425T122523Z
DESCRIPTION:
DTSTART;TZID=America/New_York:20240806T191500
DTEND;TZID=America/New_York:20240806T203000
LOCATION:https://us02web.zoom.us/j/87140725265
SUMMARY:VIRTUAL: Circle of Parents group
END:VEVENT
END:VCALENDAR
