BEGIN:VCALENDAR
VERSION:2.0
PRODID:-//psnri.org//NONSGML kigkonsult.se iCalcreator 2.30.10//
CALSCALE:GREGORIAN
METHOD:PUBLISH
UID:6c692e43-c87b-46a5-93e1-cb63f930c694
X-WR-CALDESC:
X-WR-RELCALID:0e3a5589ced83046c5a41ff954e33350
X-WR-TIMEZONE:America/New_York
BEGIN:VTIMEZONE
TZID:America/New_York
BEGIN:STANDARD
TZNAME:EST
DTSTART:20231105T020000
TZOFFSETFROM:-0400
TZOFFSETTO:-0500
RDATE:20241103T020000
RDATE:20251102T020000
END:STANDARD
BEGIN:DAYLIGHT
TZNAME:EDT
DTSTART:20240310T020000
TZOFFSETFROM:-0500
TZOFFSETTO:-0400
RDATE:20250309T020000
END:DAYLIGHT
END:VTIMEZONE
BEGIN:VEVENT
UID:ed27c674-5769-4d7f-9ee5-8bba966cd68c
DTSTAMP:20260425T140446Z
DESCRIPTION:
DTSTART;TZID=America/New_York:20240730T191500
DTEND;TZID=America/New_York:20240730T203000
LOCATION:https://us02web.zoom.us/j/87140725265
SUMMARY:VIRTUAL: Circle of Parents group
END:VEVENT
END:VCALENDAR
