BEGIN:VCALENDAR
VERSION:2.0
PRODID:-//psnri.org//NONSGML kigkonsult.se iCalcreator 2.30.10//
CALSCALE:GREGORIAN
METHOD:PUBLISH
UID:50257de1-ad32-46d9-855b-46db3a721b7b
X-WR-CALDESC:
X-WR-RELCALID:4caaef1a8d933c874906b2efd37efa17
X-WR-TIMEZONE:America/New_York
BEGIN:VTIMEZONE
TZID:America/New_York
BEGIN:STANDARD
TZNAME:EST
DTSTART:20231105T020000
TZOFFSETFROM:-0400
TZOFFSETTO:-0500
RDATE:20241103T020000
RDATE:20251102T020000
END:STANDARD
BEGIN:DAYLIGHT
TZNAME:EDT
DTSTART:20240310T020000
TZOFFSETFROM:-0500
TZOFFSETTO:-0400
RDATE:20250309T020000
END:DAYLIGHT
END:VTIMEZONE
BEGIN:VEVENT
UID:8c96c665-5171-4f4e-bab5-e0febc195026
DTSTAMP:20260425T153531Z
DESCRIPTION:
DTSTART;TZID=America/New_York:20240725T110000
DTEND;TZID=America/New_York:20240725T120000
LOCATION:535 Centerville Rd\, 2nd Floor\, Warwick\, RI 02886 US
SUMMARY:Warwick Circle of Parents group
END:VEVENT
END:VCALENDAR
