BEGIN:VCALENDAR
VERSION:2.0
PRODID:-//psnri.org//NONSGML kigkonsult.se iCalcreator 2.30.10//
CALSCALE:GREGORIAN
METHOD:PUBLISH
UID:6e840402-aa16-4cc9-a4e6-9fb3d7611c7f
X-WR-CALDESC:Become a Voice for Children's Behavioral Health in Rhode Islan
 d. Join us third Thursdays monthly online or in Warwick.\n
X-WR-RELCALID:43eecfc494033c6f3315e64492979e6b
X-WR-TIMEZONE:America/New_York
BEGIN:VTIMEZONE
TZID:America/New_York
BEGIN:STANDARD
TZNAME:EST
DTSTART:20231105T020000
TZOFFSETFROM:-0400
TZOFFSETTO:-0500
RDATE:20241103T020000
RDATE:20251102T020000
END:STANDARD
BEGIN:DAYLIGHT
TZNAME:EDT
DTSTART:20240310T020000
TZOFFSETFROM:-0500
TZOFFSETTO:-0400
RDATE:20250309T020000
END:DAYLIGHT
END:VTIMEZONE
BEGIN:VEVENT
UID:19a744f5-c948-41ea-b788-3d2a7f76d80c
DTSTAMP:20260425T170200Z
DESCRIPTION:Become a Voice for Children's Behavioral Health in Rhode Island
 . Join us third Thursdays monthly online or in Warwick.\n
DTSTART;TZID=America/New_York:20240718T130000
DTEND;TZID=America/New_York:20240718T143000
LOCATION:Hybrid in-person or virtual
SUMMARY:Family Engagement Workgroup
END:VEVENT
END:VCALENDAR
