BEGIN:VCALENDAR
VERSION:2.0
PRODID:-//psnri.org//NONSGML kigkonsult.se iCalcreator 2.30.10//
CALSCALE:GREGORIAN
METHOD:PUBLISH
UID:873c5a9d-5a22-4280-840a-40d9241786d8
X-WR-CALDESC:
X-WR-RELCALID:b485c7cd9b0ecd71094774f0017b3fc7
X-WR-TIMEZONE:America/New_York
BEGIN:VTIMEZONE
TZID:America/New_York
BEGIN:STANDARD
TZNAME:EST
DTSTART:20231105T020000
TZOFFSETFROM:-0400
TZOFFSETTO:-0500
RDATE:20241103T020000
RDATE:20251102T020000
END:STANDARD
BEGIN:DAYLIGHT
TZNAME:EDT
DTSTART:20240310T020000
TZOFFSETFROM:-0500
TZOFFSETTO:-0400
RDATE:20250309T020000
END:DAYLIGHT
END:VTIMEZONE
BEGIN:VEVENT
UID:2ce57d28-1189-4207-ab35-19cfa6fe229c
DTSTAMP:20260425T165920Z
DESCRIPTION:
DTSTART;TZID=America/New_York:20240718T110000
DTEND;TZID=America/New_York:20240718T120000
LOCATION:535 Centerville Rd\, 2nd Floor\, Warwick\, RI 02886 US
SUMMARY:Warwick Circle of Parents group
END:VEVENT
END:VCALENDAR
