BEGIN:VCALENDAR
VERSION:2.0
PRODID:-//psnri.org//NONSGML kigkonsult.se iCalcreator 2.30.10//
CALSCALE:GREGORIAN
METHOD:PUBLISH
UID:6de2e3bb-f219-41af-965a-fdd1f0697fa6
X-WR-CALDESC:Join us for a parent support group to connect with others who 
 share similar experiences. All parents or caregivers of any age child or y
 outh are welcome to attend. No sign-ups needed\, just come and meet others
  who get it. \n\nOnsite children's activities and transportation can be co
 ordinated if you pre-register. \n\nThis is a free Circle of Parents group 
 in collaboration with Child & Family.
X-WR-RELCALID:a2a7a333a5ba92be02512e0c0dbc28fd
X-WR-TIMEZONE:America/New_York
BEGIN:VTIMEZONE
TZID:America/New_York
BEGIN:STANDARD
TZNAME:EST
DTSTART:20261101T020000
TZOFFSETFROM:-0400
TZOFFSETTO:-0500
RDATE:20271107T020000
RDATE:20281105T020000
END:STANDARD
BEGIN:DAYLIGHT
TZNAME:EDT
DTSTART:20270314T020000
TZOFFSETFROM:-0500
TZOFFSETTO:-0400
RDATE:20280312T020000
END:DAYLIGHT
END:VTIMEZONE
BEGIN:VEVENT
UID:1e63b7f3-ae44-43c2-8492-e4a5024bbae7
DTSTAMP:20260423T080010Z
DESCRIPTION:Join us for a parent support group to connect with others who s
 hare similar experiences. All parents or caregivers of any age child or yo
 uth are welcome to attend. No sign-ups needed\, just come and meet others 
 who get it. \n\nOnsite children's activities and transportation can be coo
 rdinated if you pre-register. \n\nThis is a free Circle of Parents group i
 n collaboration with Child & Family.
DTSTART;TZID=America/New_York:20270520T173000
DTEND;TZID=America/New_York:20270520T190000
LOCATION:333 Centerville Rd\, Warwick\, RI 02886 US
SUMMARY:Parent Support Group
END:VEVENT
END:VCALENDAR
