BEGIN:VCALENDAR
VERSION:2.0
PRODID:-//psnri.org//NONSGML kigkonsult.se iCalcreator 2.30.10//
CALSCALE:GREGORIAN
METHOD:PUBLISH
UID:9b52ba37-49a0-4bea-a9be-f74b2c015674
X-WR-CALDESC:Onsite children's activities and transportation can be coordin
 ated if you pre-register. \n\nThis is a free Circle of Parents group in co
 llaboration with Child & Family.
X-WR-RELCALID:5aa696bd609705c2a653e818806a3b91
X-WR-TIMEZONE:America/New_York
BEGIN:VTIMEZONE
TZID:America/New_York
BEGIN:STANDARD
TZNAME:EST
DTSTART:20261101T020000
TZOFFSETFROM:-0400
TZOFFSETTO:-0500
RDATE:20271107T020000
END:STANDARD
BEGIN:DAYLIGHT
TZNAME:EDT
DTSTART:20270314T020000
TZOFFSETFROM:-0500
TZOFFSETTO:-0400
RDATE:20280312T020000
END:DAYLIGHT
END:VTIMEZONE
BEGIN:VEVENT
UID:80c3ed49-f610-424e-a506-676d15693618
DTSTAMP:20260422T193833Z
DESCRIPTION:Onsite children's activities and transportation can be coordina
 ted if you pre-register. \n\nThis is a free Circle of Parents group in col
 laboration with Child & Family.
DTSTART;TZID=America/New_York:20270324T173000
DTEND;TZID=America/New_York:20270324T190000
LOCATION:333 Centerville Rd\, Warwick\, RI 02886 US
SUMMARY:Father 2 Father Group
END:VEVENT
END:VCALENDAR
