BEGIN:VCALENDAR
VERSION:2.0
PRODID:-//psnri.org//NONSGML kigkonsult.se iCalcreator 2.30.10//
CALSCALE:GREGORIAN
METHOD:PUBLISH
UID:e19db86f-b4c7-46b8-9e5a-3124040308d0
X-WR-CALDESC:Onsite children's activities and transportation can be coordin
 ated if you pre-register. \n\nThis is a free Circle of Parents group in co
 llaboration with Child & Family.
X-WR-RELCALID:ee248fc41af5c49cd08d87fcdbd8c3d9
X-WR-TIMEZONE:America/New_York
BEGIN:VTIMEZONE
TZID:America/New_York
BEGIN:STANDARD
TZNAME:EST
DTSTART:20261101T020000
TZOFFSETFROM:-0400
TZOFFSETTO:-0500
RDATE:20271107T020000
END:STANDARD
BEGIN:DAYLIGHT
TZNAME:EDT
DTSTART:20260308T020000
TZOFFSETFROM:-0500
TZOFFSETTO:-0400
RDATE:20270314T020000
RDATE:20280312T020000
END:DAYLIGHT
END:VTIMEZONE
BEGIN:VEVENT
UID:5e19a710-4078-47a7-985f-c5809a483a0c
DTSTAMP:20260419T182914Z
DESCRIPTION:Onsite children's activities and transportation can be coordina
 ted if you pre-register. \n\nThis is a free Circle of Parents group in col
 laboration with Child & Family.
DTSTART;TZID=America/New_York:20261118T173000
DTEND;TZID=America/New_York:20261118T190000
LOCATION:333 Centerville Rd\, Warwick\, RI 02886 US
SUMMARY:Father 2 Father Group
END:VEVENT
END:VCALENDAR
